BEGIN:VCALENDAR
PRODID:-//hacksw/handcal//NONSGML v1.0//EN
VERSION:2.0
METHOD:PUBLISH
BEGIN:VEVENT
DTSTART:20241017T220000Z
DTEND:20241018T000000Z
LOCATION:560 NW 27th Avenue Fort Lauderdale FL. 33311
UID:2675620241017T220000ZCommunity Event - Urban League of Broward County /  EPC of Broward County
DTSTAMP:20260422T083745Z
DESCRIPTION:\n[](https://www.ulbroward.org/)\n \nWhat is the event?  \n \n \n \nBringing the EPC to the members of the [Urban League](https://www.ulbroward.org/) who participate in the ‘Thriving Workshops for 2024” covering Wealth Creation, Accumulation Wealth, Banking, Risk, Financial Planning and Generational Planning along with their entrepreneurship programs with EPC professionals\n \n \n \nWhat is the structure of the event? From 6-8p there will be 2 concurrent rooms; \n (4) 30 min sessions for Attorneys to provide high level overview of essential legal documents for the individual and business owner in session one and Generational and Wealth Transfer in session two, repeating in the second hour Open room for all other disciplines to provide one on one sessions for the participants (Financial Planners, Accountants, Life Insurance Advisers)  \nWho are we looking for?\n Attorneys Representatives from the Financial Planning, Accounting and Life Insurance disciplines \n \n \nOpen to the entire chapter\n
SUMMARY:Community Event - Urban League of Broward County /  EPC of Broward County - Estate Planning Council of Broward County, Inc. 
PRIORITY:3
BEGIN:VALARM
TRIGGER:PT18H
ACTION:DISPLAY
DESCRIPTION:Reminder
END:VALARM
END:VEVENT
END:VCALENDAR